BEGIN:VCALENDAR
VERSION:2.0
PRODID:-//Beach me e.V. - ECPv6.15.18//NONSGML v1.0//EN
CALSCALE:GREGORIAN
METHOD:PUBLISH
X-ORIGINAL-URL:https://verein.beachme.de
X-WR-CALDESC:Events for Beach me e.V.
REFRESH-INTERVAL;VALUE=DURATION:PT1H
X-Robots-Tag:noindex
X-PUBLISHED-TTL:PT1H
BEGIN:VTIMEZONE
TZID:UTC
BEGIN:STANDARD
TZOFFSETFROM:+0000
TZOFFSETTO:+0000
TZNAME:UTC
DTSTART:20240101T000000
END:STANDARD
END:VTIMEZONE
BEGIN:VEVENT
DTSTART;TZID=UTC:20250317T093000
DTEND;TZID=UTC:20250321T160000
DTSTAMP:20260421T103853
CREATED:20250228T105345Z
LAST-MODIFIED:20250304T103252Z
UID:2719-1742203800-1742572800@verein.beachme.de
SUMMARY:Beach me 4 ALL (Kinder- und Jugendcamp)
DESCRIPTION:In den Hamburger Frühjahrsferien\, Montag den 17.03. bis Freitag 21.03.2025 können Beach me e.V. Kinder und Jugendliche ermäßigt an dem Beach me 4 All Beachvolleyball Camp im Beach Hamburg teilnehmen. \n(Leider ist das Camp bereits ausgebucht!) \nGeboten werden euch 5 Tage Beachvolleyball satt inklusive Mittagessen. Trainiert wird täglich Vormittags und Nachmittags jeweils 2 Stunden. Am Freitagnachmittag wird anstelle eines Tainings ein Abschlussturnier gespielt.
URL:https://verein.beachme.de/event/beach-me-4-all-kinder-und-jugendcamp/
LOCATION:Beach Hamburg\, Alter Teichweg 220\, Hamburg\, Hamburg\, 22049\, Germany
CATEGORIES:Jugendtraining
ORGANIZER;CN="Beach me e.V.":MAILTO:verein@beachme.de
END:VEVENT
END:VCALENDAR